Package: rfPred Version: 1.44.0 Command: /home/biocbuild/R/R/bin/R CMD INSTALL rfPred StartedAt: 2025-03-31 20:27:22 -0000 (Mon, 31 Mar 2025) EndedAt: 2025-03-31 20:27:37 -0000 (Mon, 31 Mar 2025) EllapsedTime: 15.2 seconds RetCode: 0 Status: OK