Package: rfPred Version: 1.44.0 Command: /Library/Frameworks/R.framework/Resources/bin/R CMD check --install=check:rfPred.install-out.txt --library=/Library/Frameworks/R.framework/Resources/library --no-vignettes --timings rfPred_1.44.0.tar.gz StartedAt: 2025-04-01 07:58:31 -0400 (Tue, 01 Apr 2025) EndedAt: 2025-04-01 08:01:18 -0400 (Tue, 01 Apr 2025) EllapsedTime: 166.8 seconds RetCode: 0 Status: OK CheckDir: rfPred.Rcheck Warnings: 0