Package: rfPred Version: 1.44.0 Command: /Library/Frameworks/R.framework/Resources/bin/R CMD build --keep-empty-dirs --no-resave-data rfPred StartedAt: 2025-04-01 06:07:47 -0400 (Tue, 01 Apr 2025) EndedAt: 2025-04-01 06:08:11 -0400 (Tue, 01 Apr 2025) EllapsedTime: 24.7 seconds RetCode: 0 Status: OK PackageFile: rfPred_1.44.0.tar.gz PackageFileSize: 1.052 MiB