Package: rexposome Version: 1.28.0 Command: F:\biocbuild\bbs-3.20-bioc\R\bin\R.exe CMD INSTALL rexposome StartedAt: 2025-03-31 16:49:50 -0400 (Mon, 31 Mar 2025) EndedAt: 2025-03-31 16:51:10 -0400 (Mon, 31 Mar 2025) EllapsedTime: 79.2 seconds RetCode: 0 Status: OK