Package: rexposome Version: 1.28.0 Command: F:\biocbuild\bbs-3.20-bioc\R\bin\R.exe CMD check --no-multiarch --install=check:rexposome.install-out.txt --library=F:\biocbuild\bbs-3.20-bioc\R\library --no-vignettes --timings rexposome_1.28.0.tar.gz StartedAt: 2025-04-01 05:10:36 -0400 (Tue, 01 Apr 2025) EndedAt: 2025-04-01 05:13:44 -0400 (Tue, 01 Apr 2025) EllapsedTime: 188.3 seconds RetCode: 0 Status: WARNINGS CheckDir: rexposome.Rcheck Warnings: 5