Package: rexposome Version: 1.28.0 Command: chmod a+r rexposome -R && F:\biocbuild\bbs-3.20-bioc\R\bin\R.exe CMD build --keep-empty-dirs --no-resave-data rexposome StartedAt: 2025-03-31 21:25:30 -0400 (Mon, 31 Mar 2025) EndedAt: 2025-03-31 21:28:33 -0400 (Mon, 31 Mar 2025) EllapsedTime: 183.4 seconds RetCode: 0 Status: OK PackageFile: rexposome_1.28.0.tar.gz PackageFileSize: 5.516 MiB