Package: rexposome Version: 1.28.0 Command: /home/biocbuild/bbs-3.20-bioc/R/bin/R CMD check --install=check:rexposome.install-out.txt --library=/home/biocbuild/bbs-3.20-bioc/R/site-library --timings rexposome_1.28.0.tar.gz StartedAt: 2025-04-01 01:29:18 -0400 (Tue, 01 Apr 2025) EndedAt: 2025-04-01 01:32:55 -0400 (Tue, 01 Apr 2025) EllapsedTime: 217.3 seconds RetCode: 0 Status: WARNINGS CheckDir: rexposome.Rcheck Warnings: 5