Package: rexposome Version: 1.28.0 Command: /Library/Frameworks/R.framework/Resources/bin/R CMD INSTALL rexposome StartedAt: 2025-03-31 17:39:15 -0400 (Mon, 31 Mar 2025) EndedAt: 2025-03-31 17:39:40 -0400 (Mon, 31 Mar 2025) EllapsedTime: 24.5 seconds RetCode: 0 Status: OK