Package: rexposome Version: 1.28.0 Command: rm -rf rexposome.buildbin-libdir && mkdir rexposome.buildbin-libdir && /Users/biocbuild/BBS/utils/build-universal.sh rexposome_1.28.0.tar.gz /Library/Frameworks/R.framework/Resources/bin/R rexposome.buildbin-libdir StartedAt: 2025-04-02 15:53:46 -0400 (Wed, 02 Apr 2025) EndedAt: 2025-04-02 15:54:16 -0400 (Wed, 02 Apr 2025) EllapsedTime: 30.0 seconds RetCode: 0 Status: OK PackageFile: rexposome_1.28.0.tgz PackageFileSize: 9.146 MiB