Package: regsplice Version: 1.32.0 Command: /Library/Frameworks/R.framework/Resources/bin/R CMD INSTALL regsplice StartedAt: 2025-03-31 16:13:52 -0400 (Mon, 31 Mar 2025) EndedAt: 2025-03-31 16:14:39 -0400 (Mon, 31 Mar 2025) EllapsedTime: 46.9 seconds RetCode: 0 Status: OK