Package: regioneReloaded Version: 1.8.0 Command: /home/biocbuild/R/R/bin/R CMD INSTALL regioneReloaded StartedAt: 2025-03-31 20:33:48 -0000 (Mon, 31 Mar 2025) EndedAt: 2025-03-31 20:34:33 -0000 (Mon, 31 Mar 2025) EllapsedTime: 44.9 seconds RetCode: 0 Status: OK