Package: regioneReloaded Version: 1.8.0 Command: /home/biocbuild/bbs-3.20-bioc/R/bin/R CMD check --install=check:regioneReloaded.install-out.txt --library=/home/biocbuild/bbs-3.20-bioc/R/site-library --timings regioneReloaded_1.8.0.tar.gz StartedAt: 2025-04-01 01:26:08 -0400 (Tue, 01 Apr 2025) EndedAt: 2025-04-01 01:33:07 -0400 (Tue, 01 Apr 2025) EllapsedTime: 419.5 seconds RetCode: 0 Status: OK CheckDir: regioneReloaded.Rcheck Warnings: 0