Package: regioneR Version: 1.38.0 Command: /home/biocbuild/R/R/bin/R CMD INSTALL regioneR StartedAt: 2025-03-31 20:32:44 -0000 (Mon, 31 Mar 2025) EndedAt: 2025-03-31 20:33:32 -0000 (Mon, 31 Mar 2025) EllapsedTime: 48.4 seconds RetCode: 0 Status: OK