Package: regioneR Version: 1.38.0 Command: /Library/Frameworks/R.framework/Resources/bin/R CMD INSTALL regioneR StartedAt: 2025-03-31 15:35:15 -0400 (Mon, 31 Mar 2025) EndedAt: 2025-03-31 15:36:33 -0400 (Mon, 31 Mar 2025) EllapsedTime: 78.0 seconds RetCode: 0 Status: OK