Package: regioneR Version: 1.38.0 Command: /Library/Frameworks/R.framework/Resources/bin/R CMD check --install=check:regioneR.install-out.txt --library=/Library/Frameworks/R.framework/Resources/library --no-vignettes --timings regioneR_1.38.0.tar.gz StartedAt: 2025-04-01 07:51:25 -0400 (Tue, 01 Apr 2025) EndedAt: 2025-04-01 08:06:19 -0400 (Tue, 01 Apr 2025) EllapsedTime: 893.9 seconds RetCode: 0 Status: OK CheckDir: regioneR.Rcheck Warnings: 0