Package: regioneR Version: 1.38.0 Command: rm -rf regioneR.buildbin-libdir && mkdir regioneR.buildbin-libdir && /Users/biocbuild/BBS/utils/build-universal.sh regioneR_1.38.0.tar.gz /Library/Frameworks/R.framework/Resources/bin/R regioneR.buildbin-libdir StartedAt: 2025-04-01 12:33:43 -0400 (Tue, 01 Apr 2025) EndedAt: 2025-04-01 12:34:54 -0400 (Tue, 01 Apr 2025) EllapsedTime: 70.9 seconds RetCode: 0 Status: OK PackageFile: regioneR_1.38.0.tgz PackageFileSize: 1.801 MiB