Package: regioneR Version: 1.38.0 Command: /Library/Frameworks/R.framework/Resources/bin/R CMD check --install=check:regioneR.install-out.txt --library=/Library/Frameworks/R.framework/Resources/library --no-vignettes --timings regioneR_1.38.0.tar.gz StartedAt: 2025-04-02 05:48:58 -0400 (Wed, 02 Apr 2025) EndedAt: 2025-04-02 05:58:03 -0400 (Wed, 02 Apr 2025) EllapsedTime: 545.0 seconds RetCode: 0 Status: OK CheckDir: regioneR.Rcheck Warnings: 0