Package: regionalpcs Version: 1.4.0 Command: /Library/Frameworks/R.framework/Resources/bin/R CMD INSTALL regionalpcs StartedAt: 2025-03-31 17:44:28 -0400 (Mon, 31 Mar 2025) EndedAt: 2025-03-31 17:44:31 -0400 (Mon, 31 Mar 2025) EllapsedTime: 2.3 seconds RetCode: 0 Status: OK