Package: regionReport Version: 1.40.0 Command: /home/biocbuild/R/R/bin/R CMD build --keep-empty-dirs --no-resave-data regionReport StartedAt: 2025-04-01 01:59:28 -0000 (Tue, 01 Apr 2025) EndedAt: 2025-04-01 02:00:51 -0000 (Tue, 01 Apr 2025) EllapsedTime: 83.0 seconds RetCode: 0 Status: OK PackageFile: regionReport_1.40.0.tar.gz PackageFileSize: 775.7 KiB