Package: regionReport Version: 1.40.0 Command: F:\biocbuild\bbs-3.20-bioc\R\bin\R.exe CMD INSTALL regionReport StartedAt: 2025-03-31 16:23:53 -0400 (Mon, 31 Mar 2025) EndedAt: 2025-03-31 16:24:47 -0400 (Mon, 31 Mar 2025) EllapsedTime: 54.3 seconds RetCode: 0 Status: OK