Package: regionReport Version: 1.40.0 Command: F:\biocbuild\bbs-3.20-bioc\R\bin\R.exe CMD check --no-multiarch --install=check:regionReport.install-out.txt --library=F:\biocbuild\bbs-3.20-bioc\R\library --no-vignettes --timings regionReport_1.40.0.tar.gz StartedAt: 2025-04-01 05:06:24 -0400 (Tue, 01 Apr 2025) EndedAt: 2025-04-01 05:18:04 -0400 (Tue, 01 Apr 2025) EllapsedTime: 699.3 seconds RetCode: 0 Status: OK CheckDir: regionReport.Rcheck Warnings: 0