Package: regionReport Version: 1.40.0 Command: /Library/Frameworks/R.framework/Resources/bin/R CMD check --install=check:regionReport.install-out.txt --library=/Library/Frameworks/R.framework/Resources/library --no-vignettes --timings regionReport_1.40.0.tar.gz StartedAt: 2025-04-01 07:51:30 -0400 (Tue, 01 Apr 2025) EndedAt: 2025-04-01 08:11:49 -0400 (Tue, 01 Apr 2025) EllapsedTime: 1219.6 seconds RetCode: 0 Status: OK CheckDir: regionReport.Rcheck Warnings: 0