Package: regionReport Version: 1.40.0 Command: rm -rf regionReport.buildbin-libdir && mkdir regionReport.buildbin-libdir && /Users/biocbuild/BBS/utils/build-universal.sh regionReport_1.40.0.tar.gz /Library/Frameworks/R.framework/Resources/bin/R regionReport.buildbin-libdir StartedAt: 2025-04-01 12:33:44 -0400 (Tue, 01 Apr 2025) EndedAt: 2025-04-01 12:35:19 -0400 (Tue, 01 Apr 2025) EllapsedTime: 95.3 seconds RetCode: 0 Status: OK PackageFile: regionReport_1.40.0.tgz PackageFileSize: 695.5 KiB