Package: regionReport Version: 1.40.0 Command: /Library/Frameworks/R.framework/Resources/bin/R CMD INSTALL regionReport StartedAt: 2025-03-31 16:44:16 -0400 (Mon, 31 Mar 2025) EndedAt: 2025-03-31 16:45:08 -0400 (Mon, 31 Mar 2025) EllapsedTime: 52.0 seconds RetCode: 0 Status: OK