Package: regionReport Version: 1.40.0 Command: /Library/Frameworks/R.framework/Resources/bin/R CMD build --keep-empty-dirs --no-resave-data regionReport StartedAt: 2025-04-01 06:04:09 -0400 (Tue, 01 Apr 2025) EndedAt: 2025-04-01 06:05:32 -0400 (Tue, 01 Apr 2025) EllapsedTime: 83.6 seconds RetCode: 0 Status: OK PackageFile: regionReport_1.40.0.tar.gz PackageFileSize: 643.9 KiB