Package: recoup Version: 1.34.0 Command: /home/biocbuild/R/R/bin/R CMD check --install=check:recoup.install-out.txt --library=/home/biocbuild/R/R/site-library --no-vignettes --timings recoup_1.34.0.tar.gz StartedAt: 2025-04-01 09:51:46 -0000 (Tue, 01 Apr 2025) EndedAt: 2025-04-01 10:00:09 -0000 (Tue, 01 Apr 2025) EllapsedTime: 502.6 seconds RetCode: 0 Status: OK CheckDir: recoup.Rcheck Warnings: 0