Package: recoup Version: 1.34.0 Command: /home/biocbuild/R/R/bin/R CMD build --keep-empty-dirs --no-resave-data recoup StartedAt: 2025-04-01 01:57:57 -0000 (Tue, 01 Apr 2025) EndedAt: 2025-04-01 01:59:10 -0000 (Tue, 01 Apr 2025) EllapsedTime: 73.0 seconds RetCode: 0 Status: OK PackageFile: recoup_1.34.0.tar.gz PackageFileSize: 2.318 MiB