Package: recoup Version: 1.34.0 Command: F:\biocbuild\bbs-3.20-bioc\R\bin\R.exe CMD INSTALL recoup StartedAt: 2025-03-31 16:11:11 -0400 (Mon, 31 Mar 2025) EndedAt: 2025-03-31 16:12:17 -0400 (Mon, 31 Mar 2025) EllapsedTime: 66.0 seconds RetCode: 0 Status: OK