Package: recoup Version: 1.34.0 Command: chmod a+r recoup -R && F:\biocbuild\bbs-3.20-bioc\R\bin\R.exe CMD build --keep-empty-dirs --no-resave-data recoup StartedAt: 2025-03-31 21:23:03 -0400 (Mon, 31 Mar 2025) EndedAt: 2025-03-31 21:24:33 -0400 (Mon, 31 Mar 2025) EllapsedTime: 90.5 seconds RetCode: 0 Status: OK PackageFile: recoup_1.34.0.tar.gz PackageFileSize: 2.252 MiB