Package: recoup Version: 1.34.0 Command: /Library/Frameworks/R.framework/Resources/bin/R CMD INSTALL recoup StartedAt: 2025-03-31 15:47:44 -0400 (Mon, 31 Mar 2025) EndedAt: 2025-03-31 15:49:21 -0400 (Mon, 31 Mar 2025) EllapsedTime: 97.3 seconds RetCode: 0 Status: OK