Package: recoup Version: 1.34.0 Command: /Library/Frameworks/R.framework/Resources/bin/R CMD build --keep-empty-dirs --no-resave-data recoup StartedAt: 2025-04-01 06:00:42 -0400 (Tue, 01 Apr 2025) EndedAt: 2025-04-01 06:01:50 -0400 (Tue, 01 Apr 2025) EllapsedTime: 68.4 seconds RetCode: 0 Status: OK PackageFile: recoup_1.34.0.tar.gz PackageFileSize: 2.252 MiB