Package: recountmethylation Version: 1.16.0 Command: /home/biocbuild/R/R/bin/R CMD check --install=check:recountmethylation.install-out.txt --library=/home/biocbuild/R/R/site-library --no-vignettes --timings recountmethylation_1.16.0.tar.gz StartedAt: 2025-04-01 09:51:31 -0000 (Tue, 01 Apr 2025) EndedAt: 2025-04-01 09:53:24 -0000 (Tue, 01 Apr 2025) EllapsedTime: 113.1 seconds RetCode: 0 Status: OK CheckDir: recountmethylation.Rcheck Warnings: 0