Package: recount3 Version: 1.16.0 Command: /Library/Frameworks/R.framework/Resources/bin/R CMD check --install=check:recount3.install-out.txt --library=/Library/Frameworks/R.framework/Resources/library --no-vignettes --timings recount3_1.16.0.tar.gz StartedAt: 2025-04-02 05:41:05 -0400 (Wed, 02 Apr 2025) EndedAt: 2025-04-02 05:51:49 -0400 (Wed, 02 Apr 2025) EllapsedTime: 644.3 seconds RetCode: 0 Status: OK CheckDir: recount3.Rcheck Warnings: 0