Package: recount Version: 1.32.0 Command: /home/biocbuild/R/R/bin/R CMD build --keep-empty-dirs --no-resave-data recount StartedAt: 2025-04-01 01:57:44 -0000 (Tue, 01 Apr 2025) EndedAt: 2025-04-01 02:37:17 -0000 (Tue, 01 Apr 2025) EllapsedTime: 2372.9 seconds RetCode: 0 Status: OK PackageFile: recount_1.32.0.tar.gz PackageFileSize: 7.07 MiB