Package: recount Version: 1.32.0 Command: /Library/Frameworks/R.framework/Resources/bin/R CMD check --install=check:recount.install-out.txt --library=/Library/Frameworks/R.framework/Resources/library --no-vignettes --timings recount_1.32.0.tar.gz StartedAt: 2025-04-01 07:49:15 -0400 (Tue, 01 Apr 2025) EndedAt: 2025-04-01 08:03:09 -0400 (Tue, 01 Apr 2025) EllapsedTime: 833.3 seconds RetCode: 0 Status: OK CheckDir: recount.Rcheck Warnings: 0