Package: recount Version: 1.32.0 Command: /Library/Frameworks/R.framework/Resources/bin/R CMD INSTALL recount StartedAt: 2025-03-31 16:40:44 -0400 (Mon, 31 Mar 2025) EndedAt: 2025-03-31 16:42:19 -0400 (Mon, 31 Mar 2025) EllapsedTime: 94.3 seconds RetCode: 0 Status: OK