Package: recount Version: 1.32.0 Command: /Library/Frameworks/R.framework/Resources/bin/R CMD build --keep-empty-dirs --no-resave-data recount StartedAt: 2025-04-01 05:59:14 -0400 (Tue, 01 Apr 2025) EndedAt: 2025-04-01 06:05:06 -0400 (Tue, 01 Apr 2025) EllapsedTime: 352.2 seconds RetCode: 0 Status: OK PackageFile: recount_1.32.0.tar.gz PackageFileSize: 7.491 MiB