Package: reconsi Version: 1.18.0 Command: F:\biocbuild\bbs-3.20-bioc\R\bin\R.exe CMD INSTALL reconsi StartedAt: 2025-03-31 16:45:55 -0400 (Mon, 31 Mar 2025) EndedAt: 2025-03-31 16:46:23 -0400 (Mon, 31 Mar 2025) EllapsedTime: 28.1 seconds RetCode: 0 Status: OK