Package: reconsi Version: 1.18.0 Command: /home/biocbuild/bbs-3.20-bioc/R/bin/R CMD INSTALL reconsi StartedAt: 2025-03-31 15:48:41 -0400 (Mon, 31 Mar 2025) EndedAt: 2025-03-31 15:48:59 -0400 (Mon, 31 Mar 2025) EllapsedTime: 17.9 seconds RetCode: 0 Status: OK