Package: receptLoss Version: 1.18.0 Command: /Library/Frameworks/R.framework/Resources/bin/R CMD INSTALL receptLoss StartedAt: 2025-03-31 15:14:57 -0400 (Mon, 31 Mar 2025) EndedAt: 2025-03-31 15:15:44 -0400 (Mon, 31 Mar 2025) EllapsedTime: 47.2 seconds RetCode: 0 Status: OK