Package: rebook Version: 1.16.0 Command: /home/biocbuild/R/R/bin/R CMD INSTALL rebook StartedAt: 2025-03-31 20:44:26 -0000 (Mon, 31 Mar 2025) EndedAt: 2025-03-31 20:44:32 -0000 (Mon, 31 Mar 2025) EllapsedTime: 6.3 seconds RetCode: 0 Status: OK