Package: rebook Version: 1.16.0 Command: rm -rf rebook.buildbin-libdir && mkdir rebook.buildbin-libdir && F:\biocbuild\bbs-3.20-bioc\R\bin\R.exe CMD INSTALL --build --library=rebook.buildbin-libdir rebook_1.16.0.tar.gz StartedAt: 2025-04-01 09:00:14 -0400 (Tue, 01 Apr 2025) EndedAt: 2025-04-01 09:00:32 -0400 (Tue, 01 Apr 2025) EllapsedTime: 17.9 seconds RetCode: 0 Status: OK PackageFile: rebook_1.16.0.zip PackageFileSize: 335.2 KiB