Package: rcellminer Version: 2.28.0 Command: /home/biocbuild/R/R/bin/R CMD check --install=check:rcellminer.install-out.txt --library=/home/biocbuild/R/R/site-library --no-vignettes --timings rcellminer_2.28.0.tar.gz StartedAt: 2025-04-01 09:49:12 -0000 (Tue, 01 Apr 2025) EndedAt: 2025-04-01 09:51:23 -0000 (Tue, 01 Apr 2025) EllapsedTime: 131.3 seconds RetCode: 0 Status: WARNINGS CheckDir: rcellminer.Rcheck Warnings: 1