Package: rcellminer Version: 2.28.0 Command: /home/biocbuild/R/R/bin/R CMD build --keep-empty-dirs --no-resave-data rcellminer StartedAt: 2025-04-01 01:54:28 -0000 (Tue, 01 Apr 2025) EndedAt: 2025-04-01 01:57:43 -0000 (Tue, 01 Apr 2025) EllapsedTime: 195.1 seconds RetCode: 0 Status: OK PackageFile: rcellminer_2.28.0.tar.gz PackageFileSize: 1011 KiB