Package: rcellminer Version: 2.28.0 Command: chmod a+r rcellminer -R && F:\biocbuild\bbs-3.20-bioc\R\bin\R.exe CMD build --keep-empty-dirs --no-resave-data rcellminer StartedAt: 2025-03-31 21:20:13 -0400 (Mon, 31 Mar 2025) EndedAt: 2025-03-31 21:23:28 -0400 (Mon, 31 Mar 2025) EllapsedTime: 194.9 seconds RetCode: 0 Status: OK PackageFile: rcellminer_2.28.0.tar.gz PackageFileSize: 706.2 KiB