Package: rbsurv Version: 2.64.0 Command: /Library/Frameworks/R.framework/Resources/bin/R CMD check --install=check:rbsurv.install-out.txt --library=/Library/Frameworks/R.framework/Resources/library --no-vignettes --timings rbsurv_2.64.0.tar.gz StartedAt: 2025-04-01 07:44:51 -0400 (Tue, 01 Apr 2025) EndedAt: 2025-04-01 07:46:49 -0400 (Tue, 01 Apr 2025) EllapsedTime: 117.3 seconds RetCode: 0 Status: OK CheckDir: rbsurv.Rcheck Warnings: 0