Package: rbsurv Version: 2.64.0 Command: /Library/Frameworks/R.framework/Resources/bin/R CMD check --install=check:rbsurv.install-out.txt --library=/Library/Frameworks/R.framework/Resources/library --no-vignettes --timings rbsurv_2.64.0.tar.gz StartedAt: 2025-04-02 05:29:14 -0400 (Wed, 02 Apr 2025) EndedAt: 2025-04-02 05:30:09 -0400 (Wed, 02 Apr 2025) EllapsedTime: 55.1 seconds RetCode: 0 Status: OK CheckDir: rbsurv.Rcheck Warnings: 0