Package: rawDiag Version: 1.2.0 Command: rm -rf rawDiag.buildbin-libdir && mkdir rawDiag.buildbin-libdir && F:\biocbuild\bbs-3.20-bioc\R\bin\R.exe CMD INSTALL --build --library=rawDiag.buildbin-libdir rawDiag_1.2.0.tar.gz StartedAt: 2025-03-28 09:07:49 -0400 (Fri, 28 Mar 2025) EndedAt: 2025-03-28 09:08:13 -0400 (Fri, 28 Mar 2025) EllapsedTime: 24.0 seconds RetCode: 0 Status: OK PackageFile: rawDiag_1.2.0.zip PackageFileSize: 961.3 KiB