Package: rawDiag Version: 1.2.0 Command: /home/biocbuild/bbs-3.20-bioc/R/bin/R CMD build --keep-empty-dirs --no-resave-data --md5 rawDiag StartedAt: 2025-03-31 18:41:32 -0400 (Mon, 31 Mar 2025) EndedAt: 2025-03-31 18:42:43 -0400 (Mon, 31 Mar 2025) EllapsedTime: 71.1 seconds RetCode: 0 Status: OK PackageFile: rawDiag_1.2.0.tar.gz PackageFileSize: 2.149 MiB