Package: rawDiag Version: 1.2.0 Command: /Library/Frameworks/R.framework/Resources/bin/R CMD INSTALL rawDiag StartedAt: 2025-03-31 15:52:46 -0400 (Mon, 31 Mar 2025) EndedAt: 2025-03-31 15:52:59 -0400 (Mon, 31 Mar 2025) EllapsedTime: 13.1 seconds RetCode: 0 Status: OK